BEGIN:VCALENDAR
VERSION:2.0
PRODID:-//Schweizerische Huntington Vereinigung - ECPv6.15.16//NONSGML v1.0//EN
CALSCALE:GREGORIAN
METHOD:PUBLISH
X-WR-CALNAME:Schweizerische Huntington Vereinigung
X-ORIGINAL-URL:https://www.huntington.ch
X-WR-CALDESC:Veranstaltungen für Schweizerische Huntington Vereinigung
REFRESH-INTERVAL;VALUE=DURATION:PT1H
X-Robots-Tag:noindex
X-PUBLISHED-TTL:PT1H
BEGIN:VTIMEZONE
TZID:Europe/Zurich
BEGIN:DAYLIGHT
TZOFFSETFROM:+0100
TZOFFSETTO:+0200
TZNAME:CEST
DTSTART:20240331T010000
END:DAYLIGHT
BEGIN:STANDARD
TZOFFSETFROM:+0200
TZOFFSETTO:+0100
TZNAME:CET
DTSTART:20241027T010000
END:STANDARD
BEGIN:DAYLIGHT
TZOFFSETFROM:+0100
TZOFFSETTO:+0200
TZNAME:CEST
DTSTART:20250330T010000
END:DAYLIGHT
BEGIN:STANDARD
TZOFFSETFROM:+0200
TZOFFSETTO:+0100
TZNAME:CET
DTSTART:20251026T010000
END:STANDARD
BEGIN:DAYLIGHT
TZOFFSETFROM:+0100
TZOFFSETTO:+0200
TZNAME:CEST
DTSTART:20260329T010000
END:DAYLIGHT
BEGIN:STANDARD
TZOFFSETFROM:+0200
TZOFFSETTO:+0100
TZNAME:CET
DTSTART:20261025T010000
END:STANDARD
END:VTIMEZONE
BEGIN:VEVENT
DTSTART;VALUE=DATE:20250917
DTEND;VALUE=DATE:20250918
DTSTAMP:20260421T123643
CREATED:20250624T163005Z
LAST-MODIFIED:20250624T163005Z
UID:10044-1758067200-1758153599@www.huntington.ch
SUMMARY:Selbsthilfegruppe Raum Bern
DESCRIPTION:Treffen für Angehörige und Freunde im Restaurante Campagna \nUm 18.00 Uhr vor dem Rest. Campagna\, Brüggstrasse 369 a\, 3123 Belp \n17. September 2025
URL:https://www.huntington.ch/anlass/selbsthilfegruppe-raum-bern/
LOCATION:SO
ATTACH;FMTTYPE=image/png:https://www.huntington.ch/wp-content/uploads/2025/05/Selbsthilfegruppe-Raum-Zurich-Apresentacao-2-1.png
END:VEVENT
END:VCALENDAR