BEGIN:VCALENDAR
VERSION:2.0
PRODID:-//Schweizerische Huntington Vereinigung - ECPv6.15.16//NONSGML v1.0//EN
CALSCALE:GREGORIAN
METHOD:PUBLISH
X-WR-CALNAME:Schweizerische Huntington Vereinigung
X-ORIGINAL-URL:https://www.huntington.ch
X-WR-CALDESC:Veranstaltungen für Schweizerische Huntington Vereinigung
REFRESH-INTERVAL;VALUE=DURATION:PT1H
X-Robots-Tag:noindex
X-PUBLISHED-TTL:PT1H
BEGIN:VTIMEZONE
TZID:Europe/Zurich
BEGIN:DAYLIGHT
TZOFFSETFROM:+0100
TZOFFSETTO:+0200
TZNAME:CEST
DTSTART:20240331T010000
END:DAYLIGHT
BEGIN:STANDARD
TZOFFSETFROM:+0200
TZOFFSETTO:+0100
TZNAME:CET
DTSTART:20241027T010000
END:STANDARD
BEGIN:DAYLIGHT
TZOFFSETFROM:+0100
TZOFFSETTO:+0200
TZNAME:CEST
DTSTART:20250330T010000
END:DAYLIGHT
BEGIN:STANDARD
TZOFFSETFROM:+0200
TZOFFSETTO:+0100
TZNAME:CET
DTSTART:20251026T010000
END:STANDARD
BEGIN:DAYLIGHT
TZOFFSETFROM:+0100
TZOFFSETTO:+0200
TZNAME:CEST
DTSTART:20260329T010000
END:DAYLIGHT
BEGIN:STANDARD
TZOFFSETFROM:+0200
TZOFFSETTO:+0100
TZNAME:CET
DTSTART:20261025T010000
END:STANDARD
END:VTIMEZONE
BEGIN:VEVENT
DTSTART;TZID=Europe/Zurich:20250822T000000
DTEND;TZID=Europe/Zurich:20250822T235900
DTSTAMP:20260421T123519
CREATED:20250624T162848Z
LAST-MODIFIED:20251124T160052Z
UID:10042-1755820800-1755907140@www.huntington.ch
SUMMARY:Selbsthilfegruppe Raum Zürich
DESCRIPTION:Treffen für Betroffene\, Angehörige und Freunde\n \nUm 19 Uhr im Tertianum Letzipark\, Hohlstrasse 459\, 8048 Zürich: \n7. November 2025\nNächste Termine:\n06.02.2026\n17.04.2026\n21.08.2026\n20.11.2026
URL:https://www.huntington.ch/anlass/selbsthilfegruppe-raum-zuerich/
LOCATION:SO
ATTACH;FMTTYPE=image/png:https://www.huntington.ch/wp-content/uploads/2025/05/Selbsthilfegruppe-Raum-Zurich-Apresentacao.png
END:VEVENT
END:VCALENDAR