BEGIN:VCALENDAR
VERSION:2.0
PRODID:-//Schweizerische Huntington Vereinigung - ECPv6.15.16//NONSGML v1.0//EN
CALSCALE:GREGORIAN
METHOD:PUBLISH
X-WR-CALNAME:Schweizerische Huntington Vereinigung
X-ORIGINAL-URL:https://www.huntington.ch/en/
X-WR-CALDESC:Events for Schweizerische Huntington Vereinigung
REFRESH-INTERVAL;VALUE=DURATION:PT1H
X-Robots-Tag:noindex
X-PUBLISHED-TTL:PT1H
BEGIN:VTIMEZONE
TZID:Europe/Zurich
BEGIN:DAYLIGHT
TZOFFSETFROM:+0100
TZOFFSETTO:+0200
TZNAME:CEST
DTSTART:20220327T010000
END:DAYLIGHT
BEGIN:STANDARD
TZOFFSETFROM:+0200
TZOFFSETTO:+0100
TZNAME:CET
DTSTART:20221030T010000
END:STANDARD
BEGIN:DAYLIGHT
TZOFFSETFROM:+0100
TZOFFSETTO:+0200
TZNAME:CEST
DTSTART:20230326T010000
END:DAYLIGHT
BEGIN:STANDARD
TZOFFSETFROM:+0200
TZOFFSETTO:+0100
TZNAME:CET
DTSTART:20231029T010000
END:STANDARD
BEGIN:DAYLIGHT
TZOFFSETFROM:+0100
TZOFFSETTO:+0200
TZNAME:CEST
DTSTART:20240331T010000
END:DAYLIGHT
BEGIN:STANDARD
TZOFFSETFROM:+0200
TZOFFSETTO:+0100
TZNAME:CET
DTSTART:20241027T010000
END:STANDARD
END:VTIMEZONE
BEGIN:VEVENT
DTSTART;TZID=Europe/Zurich:20230511T130000
DTEND;TZID=Europe/Zurich:20230511T173000
DTSTAMP:20260425T144334
CREATED:20230420T204756Z
LAST-MODIFIED:20230420T205449Z
UID:3525-1683810000-1683826200@www.huntington.ch
SUMMARY:Einladung Fachseminar: Vom gesunden Merkmalsträger zur Huntington Krankheit
DESCRIPTION:Fachseminar
URL:https://www.huntington.ch/en/anlass/einladung-fachseminar-vom-gesunden-merkmalstrager-zur-huntington-krankheit/
END:VEVENT
END:VCALENDAR