BEGIN:VCALENDAR
VERSION:2.0
PRODID:-//Schweizerische Huntington Vereinigung - ECPv6.15.16//NONSGML v1.0//EN
CALSCALE:GREGORIAN
METHOD:PUBLISH
X-WR-CALNAME:Schweizerische Huntington Vereinigung
X-ORIGINAL-URL:https://www.huntington.ch/fr/
X-WR-CALDESC:Évènements pour Schweizerische Huntington Vereinigung
REFRESH-INTERVAL;VALUE=DURATION:PT1H
X-Robots-Tag:noindex
X-PUBLISHED-TTL:PT1H
BEGIN:VTIMEZONE
TZID:Europe/Zurich
BEGIN:DAYLIGHT
TZOFFSETFROM:+0100
TZOFFSETTO:+0200
TZNAME:CEST
DTSTART:20220327T010000
END:DAYLIGHT
BEGIN:STANDARD
TZOFFSETFROM:+0200
TZOFFSETTO:+0100
TZNAME:CET
DTSTART:20221030T010000
END:STANDARD
BEGIN:DAYLIGHT
TZOFFSETFROM:+0100
TZOFFSETTO:+0200
TZNAME:CEST
DTSTART:20230326T010000
END:DAYLIGHT
BEGIN:STANDARD
TZOFFSETFROM:+0200
TZOFFSETTO:+0100
TZNAME:CET
DTSTART:20231029T010000
END:STANDARD
BEGIN:DAYLIGHT
TZOFFSETFROM:+0100
TZOFFSETTO:+0200
TZNAME:CEST
DTSTART:20240331T010000
END:DAYLIGHT
BEGIN:STANDARD
TZOFFSETFROM:+0200
TZOFFSETTO:+0100
TZNAME:CET
DTSTART:20241027T010000
END:STANDARD
END:VTIMEZONE
BEGIN:VEVENT
DTSTART;TZID=Europe/Zurich:20230630T190000
DTEND;TZID=Europe/Zurich:20230630T190000
DTSTAMP:20260424T175122
CREATED:20230425T185225Z
LAST-MODIFIED:20230622T110341Z
UID:3675-1688151600-1688151600@www.huntington.ch
SUMMARY:Einladung. Selbsthilfegruppe Raum Zürich und angrenzende Regionen 2023 Programm
DESCRIPTION:Herzliche Einladung zum nächsten Treffen am Freitag\, 30. Juni 2023\, um 19.00 Uhr im Tertianum Letzipark Hohlstrasse 459\, 8048 Zürich \nEinladung Regionen 2023 Programm
URL:https://www.huntington.ch/fr/anlass/einladung-selbsthilfegruppe-raum-zurich-und-angrenzende-regionen-2023-programm/
LOCATION:SO
END:VEVENT
END:VCALENDAR